Workbook

Sheet SUMMARY AUDIT
A3: AUDIT SUMMARY
A5: AREAS | C5: ACTUAL | D5: LAST
A6: CHKD | B6: DESCRIPTION OF AREA | C6: RATING | D6: RATING | E6: COMMENT
B7: Cross Promotion / Corp. Design | C7: ='Cross Promotion'!C31 -> 0 | D7: 0 | F7: go details
B8: Reservations | C8: =Reservations!C29 -> 0 | D8: 0 | F8: go details
B9: Transportation | C9: =Transportation!C29 -> 0 | D9: 0 | F9: go details
B10: Front Desk | C10: ='Front Desk'!C31 -> 0 | D10: 0 | F10: go details
B11: Operator | C11: =Operator!C29 -> 0 | D11: 0 | F11: go details
B12: Laundry / Dry Cleaning | C12: =Laundry!C30 -> 0 | D12: 0 | F12: go details
B13: Maintenance | C13: =Maintenance!C33 -> 0 | D13: 0 | F13: go details
B14: Housekeeping | C14: =Housekeeping!C30 -> 0 | D14: 0 | F14: go details
B15: Fire / Life / Health / Safety | C15: =Security!C30 -> 0 | D15: 0 | F15: go details
B16: Hotel Room | C16: ='Hotel Room'!C30 -> 0 | D16: 0 | F16: go details
B17: Room Service | C17: ='Room Service'!C32 -> 0 | D17: 0 | F17: go details
B18: Restaurant Operation | C18: =Restaurants!C30 -> 0 | D18: 0 | F18: go details
B19: Hospitality Guarantee | C19: ='Hospitality Guarantee'!C30 -> 0 | D19: 0 | F19: go details
B21: Public Areas | C21: ='Public Areas'!C30 -> 0 | D21: 0 | F21: go details
B22: Pool Facilities | C22: =Pool!C30 -> 0 | D22: 0 | F22: go details
B23: Beach Facilities | C23: =Beach!C30 -> 0 | D23: 0 | F23: go details
B25: Core Key Principles | C25: ='Core Key Issues'!C30 -> 0 | D25: 0 | F25: go details
B26: Company Foundation | C26: ='Core Foundation'!C30 -> 0 | D26: 0 | F26: go details
B27: HR Personnel | C27: ='HR Personnel'!C30 -> 0 | D27: 0 | F27: go details
B28: HR Training | C28: ='HR Training'!C30 -> 0 | D28: 0 | F28: go details
B29: Quality Assurance Implementation | C29: ='Quality Assurance'!C30 -> 0 | D29: 0 | F29: go details
A30: OVERALL RATING CHECKED AREAS | D30: 0
F31: RATING
A32: General Comment:
A33: Note that major findings within the HR and Training section are not only related to the HR department. Those
A34: issues are core management processes where the responsibility lies with the management and the execution
A35: with the department heads.
B39: Date of Audit: ____________________ | E39: Copies to:
E40: Head Office
B41: Auditor's Name/Signature: ____________________ | E41: Regional Manager
E42: General Manager
B43: GM's Name/Signature: ____________________ | E43: Other: ________________

Sheet Cross Promotion
A3: AREA CHECKED: Cross Promotion / Corp. Design / Signage
A5: STANDARD / TOPIC CHECKED | B5: STANDARD | C5: STANDARD MET | E5: ACTION /
B6: AVAILABLE | C6: YES | D6: NO | E6: COMMENT
A7: Signwork promoting hotel facilities on transportation vehicles | B7: 1 | C7: 0 | D7: 0 | E7: where and if applicable
A8: Signwork promoting hotel facilities posted at parking lot | B8: 1 | C8: 0 | D8: 0 | E8: where and if applicable
A9: Signwork promoting hotel facilities posted inside lobby | B9: 1 | C9: 0 | D9: 0
A10: Signwork promoting hotel facilities inside elevators | B10: 1 | C10: 0 | D10: 0 | E10: floor indication + promotion
A11: Signwork in sufficient quantity indicating directions to facilities | B11: 1 | C11: 0 | D11: 0
A12: Signwork promoting business/internet corner | B12: 1 | C12: 0 | D12: 0 | E12: (incl. opening hours + whom to call for assistance if closed)
A13: Promotion info inside guest room for restaurants | B13: 1 | C13: 0 | D13: 0 | E13: (e.g. Culinary Calendar)
A14: Promotion info inside guest room for other hotel services | B14: 1 | C14: 0 | D14: 0 | E14: (printed guest information, hotel directory)
A15: Promotion info inside guest room in clean and good condition | B15: 1 | C15: 0 | D15: 0
A16: Promotion info inside guest room in a professional layout (CD) | B16: 1 | C16: 0 | D16: 0 | E16: (no in-house printed non-professional items)
A17: Promotion info inside guest room up-dated | B17: 1 | C17: 0 | D17: 0 | E17: (incl. A to Z directory)
A18: Promotional tent cards at POS tables are clean & in good cond. | B18: 1 | C18: 0 | D18: 0
A19: At check in restaurants are promoted/recommended by staff | B19: 1 | C19: 0 | D19: 0
A20: At check in other facilities are promoted/recommended by staff | B20: 1 | C20: 0 | D20: 0
A21: At check out other Hotels are recommended | B21: 1 | C21: 0 | D21: 0 | E21: (if appropriate and asked by the guest)
A23: Print material in rooms clean and decent | B23: 1 | C23: 0 | D23: 0
A24: Print material in rooms according to corporate design standards | B24: 1 | C24: 0 | D24: 0
A25: Inside room no old / obsolete logos still in use | B25: 1 | C25: 0 | D25: 0
A26: Promotion on TV Info channel up-dated, attractive | B26: 1 | C26: 0 | D26: 0 | E26: where and if applicable
A27: TV Channel Selection Guide available (printed version) | B27: 1 | C27: 0 | D27: 0 | E27: (as per BSM - Room Amenity List)
A29: Implementation New Branding completed | B29: 1 | C29: 0 | D29: 0 | E29: (where and if appropriate)
A30: TOTAL Points reached in this Area: | B30: =SUM(B7:B29) -> 21 | C30: =SUM(C7:C29) -> 0 | D30: =SUM(D7:D29) -> 0 | E30: Minimum to be reached:
A31: Performance in % in this Area | B31: 1 | C31: =C30/B30 -> 0 | D31: =D30/B30 -> 0 | E31: 80%

Sheet Reservations
A3: AREA CHECKED: Reservations
A5: STANDARD / TOPIC CHECKED | B5: STANDARD | C5: STANDARD MET | E5: ACTION /
B6: AVAILABLE | C6: YES | D6: NO | E6: COMMENT
A7: Core Key Principles & General Requirements apply | B7: 1 | C7: 0 | D7: 0 | E7: (hotel internal calls)
A8: Departmental Service Requirements apply | B8: 1 | C8: 0 | D8: 0
A10: Phones are answered promptly and within 5 rings | B10: 1 | C10: 0 | D10: 0
A11: Calls are not put on hold for longer than 30 seconds | B11: 1 | C11: 0 | D11: 0
A12: Reservation information is confirmed to caller and thanked | B12: 1 | C12: 0 | D12: 0
A13: Reservation transaction is ended by thank you + positive note | B13: 1 | C13: 0 | D13: 0
A14: Employee gives caller his full name | B14: 1 | C14: 0 | D14: 0
A15: Standardised confirmation fax is offered upon request | B15: 1 | C15: 0 | D15: 0 | E15: depending on callers request (as per BSM sample)
A16: Reservation/cancellation number is offered by default | B16: 1 | C16: 0 | D16: 0
B17: 1 | C17: 0 | D17: 0
A18: RA offers alternative Hotel when fully booked | B18: 1 | C18: 0 | D18: 0 | E18: if availble, if not alternative information
A19: RA gives positive description of rooms, if asked | B19: 1 | C19: 0 | D19: 0
A20: RA explains cancellation policy | B20: 1 | C20: 0 | D20: 0 | E20: if guaranteed reservation
A21: RA explains holding policy | B21: 1 | C21: 0 | D21: 0 | E21: if non-guaranteed reservation
A22: RA explains check-in / check-out time policy | B22: 1 | C22: 0 | D22: 0 | E22: (also valid if confirmed by fax confirmation)
C23: 0 | D23: 0
A24: Preference for smoking/non-smoking room is asked | B24: 1 | C24: 0 | D24: 0 | E24: if appropriate, depending on booking situation of hotel
A25: Callers name is at least mentioned twice during transaction | B25: 1 | C25: 0 | D25: 0
A26: A range of accomodation is offered where available | B26: 1 | C26: 0 | D26: 0 | E26: Yield Management / Upselling
A28: TOTAL Points reached in this Area: | B28: =SUM(B7:B27) -> 18 | C28: =SUM(C7:C27) -> 0 | D28: =SUM(D7:D27) -> 0 | E28: Minimum to be reached:
A29: Performance in % in this Area | B29: 1 | C29: =C28/B28 -> 0 | D29: =D28/B28 -> 0 | E29: 80%

Sheet Transportation
A3: AREA CHECKED: Transportation
A5: STANDARD / TOPIC CHECKED | B5: STANDARD | C5: STANDARD MET | E5: ACTION /
B6: AVAILABLE | C6: YES | D6: NO | E6: COMMENT
A7: Core Key Principles & General Requirements apply | B7: 1 | C7: 0 | D7: 0
A8: Departmental Service Requirements apply | B8: 1 | C8: 0 | D8: 0
A10: Upon departure estimated driving time is mentioned | B10: 1 | C10: 0 | D10: 0
A11: Car destination is confirmed to guest upon boarding | B11: 1 | C11: 0 | D11: 0 | E11: (incl. estimated driving time to desination)
A12: Incoming guests are welcomed | B12: 1 | C12: 0 | D12: 0
A13: Departing guests are acknowledged | B13: 1 | C13: 0 | D13: 0
A14: Guests are assisted with luggage | B14: 1 | C14: 0 | D14: 0 | E14: In resort hotels and where appropriate
A15: Hotel's facilities and services are explained | B15: 1 | C15: 0 | D15: 0 | E15: (upon request from guest, information available)
A17: Offer of bell service is given and guest directed to front desk | B17: 1 | C17: 0 | D17: 0
A18: Airport shuttle or relevant transportation information is available | B18: 1 | C18: 0 | D18: 0
A20: Transportation vehicle is clean on interior / exterior | B20: 1 | C20: 0 | D20: 0
A21: Non-smoking signs are available and visible inside vehicles | B21: 1 | C21: 0 | D21: 0
A22: Driver arrives promptly and within schedule | B22: 1 | C22: 0 | D22: 0
A23: Driver informs guests how luggage is handled | B23: 1 | C23: 0 | D23: 0
A24: Outbound: Driver must request guest's airline | B24: 1 | C24: 0 | D24: 0
A25: Outbound: Driver must indicate direction to check-in counter | B25: 1 | C25: 0 | D25: 0
A26: Outbound: Driver wishes guest a pleasant trip | B26: 1 | C26: 0 | D26: 0
A28: TOTAL Points reached in this Area: | B28: =SUM(B7:B27) -> 17 | C28: =SUM(C7:C27) -> 0 | D28: =SUM(D7:D27) -> 0 | E28: Minimum to be reached:
A29: Performance in % in this Area | B29: 1 | C29: =C28/B28 -> 0 | D29: =D28/B28 -> 0 | E29: 80%

Sheet Front Desk
A3: AREA CHECKED: Front Desk (check-in / check-out)
A5: STANDARD / TOPIC CHECKED | B5: STANDARD | C5: STANDARD MET | E5: ACTION /
B6: AVAILABLE | C6: YES | D6: NO | E6: COMMENT
A7: Hospitality Guarantee applies | B7: 1 | C7: 0 | D7: 0 | E7: if complaint available
A8: Core Key Principles & General Requirements apply | B8: 1 | C8: 0 | D8: 0
A9: Departmental Service Requirements apply | B9: 1 | C9: 0 | D9: 0
A11: Guests are acknowledged immediately with appropriate greeting | B11: 1 | C11: 0 | D11: 0 | E11: (and using eye contact)
A12: Check in is completed within 5 minutes, including waiting time | B12: 1 | C12: 0 | D12: 0 | E12: (guest history, repeaters registration form completed)
A13: Guest is asked if he has stayed at the hotel before | B13: 1 | C13: 0 | D13: 0 | E13: (returning guests are acknowledged)
A14: Guest is offered smoking or non-smoking room, if available | B14: 1 | C14: 0 | D14: 0 | E14: (depending on reservation)
A15: Room type, rate and departure date confirmed, check-out time | B15: 1 | C15: 0 | D15: 0 | E15: (rate to be confirmed only for individual guests)
A17: Information about hotel services are given | B17: 1 | C17: 0 | D17: 0 | E17: (a choice of specific info, depending on hotel)
A18: Information about what time and where breakfast is served | B18: 1 | C18: 0 | D18: 0
A19: Guest privacy is protected, room numbers not given to callers | B19: 1 | C19: 0 | D19: 0 | E19: (or stated out loud)
A20: Luggage assistance offered, info about lockable storage given | B20: 1 | C20: 0 | D20: 0 | E20: (storage, trolley or assistance offered if appropriate)
A22: Check-out is completed within 10 minutes, incl. waiting time | B22: 1 | C22: 0 | D22: 0
A23: Charges are billed according to billing instructions | B23: 1 | C23: 0 | D23: 0 | E23: (if applicable, cashier is aware about them)
A24: Statement + method of payment is presented discretely | B24: 1 | C24: 0 | D24: 0 | E24: (written or verbal)
A25: Guest is asked if the stay was satisfactory | B25: 1 | C25: 0 | D25: 0
A26: Guest is thanked for staying with us and appropriate farewell | B26: 1 | C26: 0 | D26: 0
A27: Offer of reservation at another Hotel, if appropriate | B27: 1 | C27: 0 | D27: 0 | E27: (if guest is requesting so)
A30: TOTAL Points reached in this Area: | B30: =SUM(B7:B29) -> 18 | C30: =SUM(C7:C29) -> 0 | D30: =SUM(D7:D29) -> 0 | E30: Minimum to be reached:
A31: Performance in % in this Area | B31: 1 | C31: =C30/B30 -> 0 | D31: =D30/B30 -> 0 | E31: 80%

Sheet Operator
A3: AREA CHECKED: Operator
A5: STANDARD / TOPIC CHECKED | B5: STANDARD | C5: STANDARD MET | E5: ACTION /
B6: AVAILABLE | C6: YES | D6: NO | E6: COMMENT
A7: Core Key Principles apply | B7: 1 | C7: 0 | D7: 0
A8: General Requirements apply | B8: 1 | C8: 0 | D8: 0
A10: Greeting includes hotel & employee name & offer of assistance | B10: 1 | C10: 0 | D10: 0 | E10: (For in-house calls mention department instead hotel)
A11: Phone is answered promptly and within 5 rings | B11: 1 | C11: 0 | D11: 0
A12: Calls are not put on hold for longer than 30 seconds | B12: 1 | C12: 0 | D12: 0
A13: Caller is addressed by name | B13: 1 | C13: 0 | D13: 0 | E13: where appropriate / system provides names
A14: Operator listens carefully & finally confirms main points of call | B14: 1 | C14: 0 | D14: 0 | E14: (if appropriate, e.g. messages)
A15: If call must be returned, it does not exceed 20 minutes | B15: 1 | C15: 0 | D15: 0
A16: If needed, messages are taken | B16: 1 | C16: 0 | D16: 0
A17: For wake-up calls, operator must confirm time & room number | B17: 1 | C17: 0 | D17: 0 | E17: (transaction is ended with a positive note)
A18: Operator must apologise for any delays or interruptions | B18: 1 | C18: 0 | D18: 0
A19: Operator must ask guest's permission before placing on hold | B19: 1 | C19: 0 | D19: 0 | E19: when searching for somebody
A20: Operator must be able to provide information re hotel services | B20: 1 | C20: 0 | D20: 0
A21: Operator provides service to guests | B21: 1 | C21: 0 | D21: 0 | E21: or connect to the right person/department in charge
A22: Operator provides messages within 10 minutes of receiving | B22: 1 | C22: 0 | D22: 0 | E22: Business hotels, resort hotels 20 minutes
A28: TOTAL Points reached in this Area: | B28: =SUM(B7:B27) -> 15 | C28: =SUM(C7:C27) -> 0 | D28: =SUM(D7:D27) -> 0 | E28: Minimum to be reached:
A29: Performance in % in this Area | B29: 1 | C29: =C28/B28 -> 0 | D29: =D28/B28 -> 0 | E29: 80%

Sheet Laundry
A3: AREA CHECKED: Laundry / Dry Cleaning
A5: STANDARD / TOPIC CHECKED | B5: STANDARD | C5: STANDARD MET | E5: ACTION /
B6: AVAILABLE | C6: YES | D6: NO | E6: COMMENT
A7: Core Key Principles & General Requirements apply | B7: 1 | C7: 0 | D7: 0
A8: Entering and leaving guest room according to policy | B8: 1 | C8: 0 | D8: 0
A11: When inquiring about laundry service, pick-up time offered | B11: 1 | C11: 0 | D11: 0 | E11: estimated time
A12: Laundry is picked up within 15 minutes of quoted time | B12: 1 | C12: 0 | D12: 0 | E12: or according to in-room instructions
A13: Laundry is returned within 15 minutes of quoted time | B13: 1 | C13: 0 | D13: 0 | E13: or according to in-room instructions
A14: Laundry must follow all of guests special instructions | B14: 1 | C14: 0 | D14: 0 | E14: (e.g. shirts folded or on hanger)
A15: If unable to clean or repair, guest is called for alternatives | B15: 1 | C15: 0 | D15: 0
A16: Clothing must be returned damage-free | B16: 1 | C16: 0 | D16: 0
A17: All items sent out together must be returned together | B17: 1 | C17: 0 | D17: 0
A19: Laundry list is equipped with space for guest's signature | B19: 1 | C19: 0 | D19: 0
A20: Used laundry lists and bags are replaced/refilled upon pick-up | B20: 1 | C20: 0 | D20: 0
A22: Personal belongings left in items are returned a.s.a.p. | B22: 1 | C22: 0 | D22: 0 | E22: when appropriate timewise
A29: TOTAL Points reached in this Area: | B29: =SUM(B7:B28) -> 12 | C29: =SUM(C7:C28) -> 0 | D29: =SUM(D7:D28) -> 0 | E29: Minimum to be reached:
A30: Performance in % in this Area | B30: 1 | C30: =C29/B29 -> 0 | D30: =D29/B29 -> 0 | E30: 80%

Sheet Maintenance
A3: AREA CHECKED: Maintenance
A5: STANDARD / TOPIC CHECKED | B5: STANDARD | C5: STANDARD MET | E5: ACTION /
B6: AVAILABLE | C6: YES | D6: NO | E6: COMMENT
A7: Hospitality Guarantee applies | B7: 1 | C7: 0 | D7: 0
A8: Core Key Principles & General Requirements apply | B8: 1 | C8: 0 | D8: 0
A9: Departmental Service Requirements apply | B9: 1 | C9: 0 | D9: 0
A11: Maintenance request must be finalised within 45 minutes | B11: 1 | C11: 0 | D11: 0 | E11: Applies for public area and guest room.
A12: If not settled within 45 minutes offer of room change | B12: 1 | C12: 0 | D12: 0
A14: Hotel's exterior landscaping must be well maintained | B14: 1 | C14: 0 | D14: 0 | E14: (if and where applicable)
A15: Plants/décor at primary entrance must be attractive | B15: 1 | C15: 0 | D15: 0
A16: Doors at entrance are in good working order | B16: 1 | C16: 0 | D16: 0
A17: Pavement/carpeting at entrance must be in good physical cond. | B17: 1 | C17: 0 | D17: 0
A18: Decor in lobby must be up-to-date and attractive | B18: 1 | C18: 0 | D18: 0 | E18: (one attractive flower arrangement at check in area)
A19: Corridors: appropriate directional signs available | B19: 1 | C19: 0 | D19: 0
A20: Corridors: appropriate illumination provided | B20: 1 | C20: 0 | D20: 0 | E20: (all light bulp incl. emergency sign light)
A21: Non-smoking guest rooms / floors / areas clearly signed | B21: 1 | C21: 0 | D21: 0 | E21: (floors if and where applicable, F&B main restaurant)
A22: Monthly Engineering report is reviewed with GM | B22: 2 | C22: 0 | D22: 0 | E22: (together with the collective Maintenance reports of
A23: Toilets in public restrooms are in good working order | B23: 1 | C23: 0 | D23: 0 | E23: the same period (DYNA))
A24: Urinals in public restrooms are in good working order | B24: 1 | C24: 0 | D24: 0
A25: Public restrooms are clean and appropriately equipped | B25: 1 | C25: 0 | D25: 0 | E25: (hourly sign-off frame / sanitary dispenser)
A26: Public restrooms are free of bad smell or odours | B26: 1 | C26: 0 | D26: 0
A28: Equipment & machinery at rest. buffet clean & good condition | B28: 1 | C28: 0 | D28: 0
A29: Carpets in Restaurants free of stains & in good physical cond. | B29: 1 | C29: 0 | D29: 0 | E29: (when tiles: not damaged, clean grouting)
A30: Service doors are in good physical shape | B30: 1 | C30: 0 | D30: 0 | E30: (R&M regularly done, especially painting)
A32: TOTAL Points reached in this Area: | B32: =SUM(B7:B31) -> 22 | C32: =SUM(C7:C31) -> 0 | D32: =SUM(D7:D31) -> 0 | E32: Minimum to be reached:
A33: Performance in % in this Area | B33: 1 | C33: =C32/B32 -> 0 | D33: =D32/B32 -> 0 | E33: 80%

Sheet Housekeeping
A3: AREA CHECKED: Housekeeping
A5: STANDARD / TOPIC CHECKED | B5: STANDARD | C5: STANDARD MET | E5: ACTION /
B6: AVAILABLE | C6: YES | D6: NO | E6: COMMENT
A7: Hospitality Guarantee applies | B7: 1 | C7: 0 | D7: 0
A8: Core Key Principles & General Requirements apply | B8: 1 | C8: 0 | D8: 0
A9: Departmental Service Requirements apply | B9: 1 | C9: 0 | D9: 0
A10: Full room cleaning is provided within 20 minutes, if requested | B10: 1 | C10: 0 | D10: 0
A11: Guest requests are provided within 15 minutes (normal hours) | B11: 1 | C11: 0 | D11: 0 | E11: (towels, other housekeeping supplies)
A12: Refills of supply is done daily and systematically | B12: 1 | C12: 0 | D12: 0 | E12: (laundry lists & bags, stationary, etc.)
A13: Maids carts are not interfering with hallway traffic flow | B13: 1 | C13: 0 | D13: 0
A14: Guests are not disturbed in guest areas | B14: 1 | C14: 0 | D14: 0 | E14: (loud music, talk, televisions, shutting of doors, etc.)
A15: Carts are not driven in corridors before 8 a.m. or after 10 p.m. | B15: 1 | C15: 0 | D15: 0 | E15: (no disturbance recognisable)
A16: Before entering guest room "Housekeeping" is announced | B16: 1 | C16: 0 | D16: 0 | E16: (as per Core Key Principles)
A17: 5 seconds are waited before knocking second time | B17: 1 | C17: 0 | D17: 0
A18: Guest is greeted by his name and intentions are announced | B18: 1 | C18: 0 | D18: 0 | E18: (from supervisory levels only)
A19: When leaving room, guest is asked if anything else needed | B19: 1 | C19: 0 | D19: 0
A20: Information & print materials are in good shape and actual | B20: 1 | C20: 0 | D20: 0
A21: Baby cots are available and in good shape | B21: 1 | C21: 0 | D21: 0 | E21: (mosquito net available)
A22: Housekeepers must not allow guest into room with no roomkey | B22: 1 | C22: 0 | D22: 0 | E22: guest's identity must be checked first by supervisor
A23: Rooms are free of bad smell and odours | B23: 1 | C23: 0 | D23: 0
A24: "Do not Disturb" signs are respected | B24: 1 | C24: 0 | D24: 0
A25: Lighting is sufficient and working all over | B25: 1 | C25: 0 | D25: 0
A26: HVAC is working properly and efficiently | B26: 1 | C26: 0 | D26: 0 | E26: (proper/adequate room temperatur)
A27: Lost + found log is to be kept available 24 hours | B27: 1 | C27: 0 | D27: 0 | E27: Ability to hand out lost items also 24 hours!
A29: TOTAL Points reached in this Area: | B29: =SUM(B7:B28) -> 21 | C29: =SUM(C7:C28) -> 0 | D29: =SUM(D7:D28) -> 0 | E29: Minimum to be reached:
A30: Performance in % in this Area | B30: 1 | C30: =C29/B29 -> 0 | D30: =D29/B29 -> 0 | E30: 80%

Sheet Security
A3: AREA CHECKED: Fire / Life / Health / Safety & Security
A5: STANDARD / TOPIC CHECKED | B5: STANDARD | C5: STANDARD MET | E5: ACTION /
B6: AVAILABLE | C6: YES | D6: NO | E6: COMMENT
A7: Fire exits must be visible with signs lit | B7: 1 | C7: 0 | D7: 0
A8: Fire exits must be unencumbered and unlocked | B8: 1 | C8: 0 | D8: 0 | E8: (not to be opened from outside)
A9: Guest room corridors must be free of hazards | B9: 1 | C9: 0 | D9: 0
A10: Areas of value must be secured during off hours | B10: 1 | C10: 0 | D10: 0
A11: Guest luggage must never be left unattended | B11: 1 | C11: 0 | D11: 0
A12: Housekeeper must keep room doors closed; or | B12: 1 | C12: 0 | D12: 0
A13: Housekeeper must keep room doors blocked by carts | B13: 1 | C13: 0 | D13: 0 | E13: (while cleaning guest room)
A14: When cleaning floors, appropriate measures are taken | B14: 1 | C14: 0 | D14: 0 | E14: (preventing guests to slip on wet floors)
A16: Emergency Manual as per sample BSM availble and adapted | B16: 1 | C16: 0 | D16: 0 | E16: (as per BSM)
A17: Evacuation points designated and known by staff | B17: 1 | C17: 0 | D17: 0 | E17: (as per BSM guidelines)
A18: Evacuation procedures trained at least once a year | B18: 1 | C18: 0 | D18: 0 | E18: (physical proof / documentation)
A19: Quick Emergency procedures available at operator | B19: 1 | C19: 0 | D19: 0 | E19: (as per BSM guidelines)
A22: Electrical panels / fuse panels must be locked | B22: 1 | C22: 0 | D22: 0 | E22: not at guests availability
A24: Security Staff is greeting guests with friendly smile | B24: 1 | C24: 0 | D24: 0 | E24: where and if applicable
A29: TOTAL Points reached in this Area: | B29: =SUM(B7:B28) -> 14 | C29: =SUM(C7:C28) -> 0 | D29: =SUM(D7:D28) -> 0 | E29: Minimum to be reached:
A30: Performance in % in this Area | B30: 1 | C30: =C29/B29 -> 0 | D30: =D29/B29 -> 0 | E30: 80%

Sheet Hotel Room
A3: AREA CHECKED: Hotel Room
A5: STANDARD / TOPIC CHECKED | B5: STANDARD | C5: STANDARD MET | E5: ACTION /
B6: AVAILABLE | C6: YES | D6: NO | E6: COMMENT
A7: Room must contain info about safe deposit boxes available | B7: 1 | C7: 0 | D7: 0
A8: Rooms are free of excessive noises | B8: 1 | C8: 0 | D8: 0
A10: Sufficient hangers are available in closet (6) | B10: 1 | C10: 0 | D10: 0
A11: Lamps provide sufficient lighting | B11: 1 | C11: 0 | D11: 0
A12: Lamps and light switches are easy to locate | B12: 1 | C12: 0 | D12: 0
A13: Room number must be written on phone plate | B13: 1 | C13: 0 | D13: 0
A14: Must be able to achieve comfortable temperature with HVAC | B14: 1 | C14: 0 | D14: 0
A15: Must be able to achieve comfortable water temperature | B15: 1 | C15: 0 | D15: 0 | E15: in the bathroom
A16: Matresses turned at least twice a year | B16: 1 | C16: 0 | D16: 0 | E16: Stickers or system available (date last time: )
A17: TV/radio's must receive all channels clearly | B17: 1 | C17: 0 | D17: 0
A18: Minibars are to be free of ice (defrosted regularly) | B18: 1 | C18: 0 | D18: 0
A19: Balcony sliding doors must operate easily | B19: 1 | C19: 0 | D19: 0 | E19: if balcony available
A20: Bathroom sink drains must flow well | B20: 1 | C20: 0 | D20: 0 | E20: and must be free of hair, seal off tight, etc.
A21: Toilets must be in good working order | B21: 1 | C21: 0 | D21: 0 | E21: brush holder/container no water
A23: Fire safety plan must be posted | B23: 1 | C23: 0 | D23: 0
A24: Emergency extension stated on face plate of room phone | B24: 1 | C24: 0 | D24: 0
A25: Emergency procedure booklet available in room (corp. standard) | B25: 1 | C25: 0 | D25: 0 | E25: Rebranded hotels: old booklet until new is available in webshop
A27: Curtains must be unstained, fit well, close well | B27: 1 | C27: 0 | D27: 0 | E27: (black out curtains must really seal the room)
A28: Waterkettles are dry and clean (free of lime) | B28: 1 | C28: 0 | D28: 0 | E28: (applicable for coffe/tee amenities)
A29: TOTAL Points reached in this Area: | B29: =SUM(B7:B28) -> 19 | C29: =SUM(C7:C28) -> 0 | D29: =SUM(D7:D28) -> 0 | E29: Minimum to be reached:
A30: Performance in % in this Area | B30: 1 | C30: =C29/B29 -> 0 | D30: =D29/B29 -> 0 | E30: 80%

Sheet Room Service
A3: AREA CHECKED: Room Service
A5: STANDARD / TOPIC CHECKED | B5: STANDARD | C5: STANDARD MET | E5: ACTION /
B6: AVAILABLE | C6: YES | D6: NO | E6: COMMENT
A7: Hospitality Guarantee applies | B7: 1 | C7: 0 | D7: 0 | E7: (e.g. wrong or incomplete delivery, etc.)
A8: Core Key Principles & General Requirements apply | B8: 1 | C8: 0 | D8: 0
A9: Departmental Service Requirements apply | B9: 1 | C9: 0 | D9: 0
A11: Name of the guest is mentioned at least twice during call | B11: 1 | C11: 0 | D11: 0 | E11: if name available on the telephone display
A12: Calls are answered within 5 rings | B12: 1 | C12: 0 | D12: 0
A13: Order is repeated back to guest to confirm accuracy | B13: 1 | C13: 0 | D13: 0
A14: Time of delivery is quoted (estimated) | B14: 1 | C14: 0 | D14: 0 | E14: (especially if delevery estimate exceeds 30 minutes)
A15: Food service is delivered at proper temperature | B15: 1 | C15: 0 | D15: 0
A16: Order is delivered within 30 minutes | B16: 1 | C16: 0 | D16: 0 | E16: if not, hospitality guarantee applies, if no prior info
A18: Information regarding removal of service tray is provided | B18: 1 | C18: 0 | D18: 0
A19: Trays are picked up immediately, not exceeding one hour | B19: 1 | C19: 0 | D19: 0
A20: Guest shall not be disturbed for pick-up of any trays by phone | B20: 1 | C20: 0 | D20: 0 | E20: (respect privacy)
A21: Room Service meals are served with appropriate place cover | B21: 1 | C21: 0 | D21: 0 | E21: Plastic wrap/foil is not allowed for the entree
A22: Server must ask guest where to place the meal | B22: 1 | C22: 0 | D22: 0
A23: Server must offer to set up the meal for the guest | B23: 1 | C23: 0 | D23: 0
A24: Server must ensure all utensils appropriate are furnished | B24: 1 | C24: 0 | D24: 0
A25: Server must ensure all items ordered are delivered and posted | B25: 1 | C25: 0 | D25: 0
A26: Proper and printed check is presented to guest | B26: 1 | C26: 0 | D26: 0 | E26: (including a pen for signature)
A28: Room Service menu:
A29: Opening hours, delivery time, extension mentioned | B29: 1 | C29: 0 | D29: 0 | E29: within menu on page one
A31: TOTAL Points reached in this Area: | B31: =SUM(B7:B30) -> 19 | C31: =SUM(C7:C30) -> 0 | D31: =SUM(D7:D30) -> 0 | E31: Minimum to be reached:
A32: Performance in % in this Area | B32: 1 | C32: =C31/B31 -> 0 | D32: =D31/B31 -> 0 | E32: 80%

Sheet Restaurants
A3: AREA CHECKED: Restaurant Operation
A5: STANDARD / TOPIC CHECKED | B5: STANDARD | C5: STANDARD MET | E5: ACTION /
B6: AVAILABLE | C6: YES | D6: NO | E6: COMMENT
A7: Hospitality Guarantee applies | B7: 1 | C7: 0 | D7: 0
A8: Core Key Principles & General Requirements apply | B8: 1 | C8: 0 | D8: 0
A9: Departmental Service Requirements apply | B9: 1 | C9: 0 | D9: 0
A10: Guests are acknowledged promptly & courteously upon arrival | B10: 1 | C10: 0 | D10: 0 | E10: using eye contact
A11: Tables and chairs are cleaned and fully set before seating | B11: 1 | C11: 0 | D11: 0
A12: Guests seated promptly, offer smoking/non-smoking preference | B12: 1 | C12: 0 | D12: 0 | E12: (non-smoking clearly signed at main restaurant)
A13: Upon seating the appropriate beverage is offered | B13: 1 | C13: 0 | D13: 0
A14: After being seated menu is handed out | B14: 1 | C14: 0 | D14: 0
A15: Meal service is prompt and starts 30 minutes after ordering | B15: 1 | C15: 0 | D15: 0 | E15: (except lunch at main restaurant: 15 minutes)
A16: For serving beverage items always tray service is used | B16: 1 | C16: 0 | D16: 0
A17: Refill of beverage is offered during meal service | B17: 1 | C17: 0 | D17: 0
A18: Guest's asked if all satisfactory or if anything else needed | B18: 1 | C18: 0 | D18: 0
A19: Checks promptly presented & ready for payment | B19: 1 | C19: 0 | D19: 0
A20: Tables are promptly cleaned, set and reset | B20: 1 | C20: 0 | D20: 0
A21: Orders are always repeated back to client for accuracy | B21: 1 | C21: 0 | D21: 0
A22: Mgr/Supervisor must routinely & consistently circulate | B22: 1 | C22: 0 | D22: 0
A23: Mgr/Supervisor must converse with guests | B23: 1 | C23: 0 | D23: 0 | E23: satisfaction with meal & service, welcome, farewell, etc.
A24: Temperature in restaurant must be comfortable | B24: 1 | C24: 0 | D24: 0
A25: Source of entertainment must be provided in restaurant | B25: 1 | C25: 0 | D25: 0
A26: Bus station stands must be kept free of excessive dishware | B26: 1 | C26: 0 | D26: 0
A27: Buffet items must be fresh & presented attractively | B27: 1 | C27: 0 | D27: 0
A28: Major Buffet items must be labelled/named | B28: 1 | C28: 0 | D28: 0 | E28: (clean, neat and streamlined system)
A29: TOTAL Points reached in this Area: | B29: =SUM(B7:B28) -> 22 | C29: =SUM(C7:C28) -> 0 | D29: =SUM(D7:D28) -> 0 | E29: Minimum to be reached:
A30: Performance in % in this Area | B30: 1 | C30: =C29/B29 -> 0 | D30: =D29/B29 -> 0 | E30: 80%

Sheet Hospitality Guarantee
A3: AREA CHECKED: Hospitality Guarantee
A5: STANDARD / TOPIC CHECKED | B5: STANDARD | C5: STANDARD MET | E5: ACTION /
B6: AVAILABLE | C6: YES | D6: NO | E6: COMMENT
A7: Internal Audit: action plan available re last audit | B7: 1 | C7: 0 | D7: 0 | E7: physical proof (general or department)
A8: Mystery Shopper: action plan available re last audit | B8: 1 | C8: 0 | D8: 0 | E8: physical proof (general or department)
A9: No staff smoking in guest areas | B9: 1 | C9: 0 | D9: 0 | E9: (inclusive restaurants if staff is taking meals there)
A10: Guests are only placed at clean and set tables | B10: 1 | C10: 0 | D10: 0
A11: At lunchtime meals are delivered within 15 minutes of order | B11: 1 | C11: 0 | D11: 0
A12: Hospitality Guarantee items are included in training | B12: 1 | C12: 0 | D12: 0 | E12: in addition to Core Key Principles
A13: Prove available training done in one particular dpt last 60 days | B13: 1 | C13: 0 | D13: 0
A14: Guests greeted & welcomed when entering outlet, corridor,etc. | B14: 1 | C14: 0 | D14: 0
A15: Guests bidden farewell when leaving outlet or checkout desk | B15: 1 | C15: 0 | D15: 0
A16: Guests given full attention when communicating | B16: 1 | C16: 0 | D16: 0 | E16: checked at:
A17: Answering phone: standardised intro (welcome to MP, name) | B17: 1 | C17: 0 | D17: 0 | E17: checked at:
A21: Verbal complaint: apology pronounced in first place | B21: 1 | C21: 0 | D21: 0
A22: Verbal complaint: handled at satisfaction customer (ev. goodie) | B22: 1 | C22: 0 | D22: 0
A23: Written complaint: 1st answer/reply within 24 hours, prove | B23: 1 | C23: 0 | D23: 0
A24: Written complaint: answer by GM or at least member ExCom | B24: 1 | C24: 0 | D24: 0
A25: Written complaint: physical check one random file - complete | B25: 1 | C25: 0 | D25: 0
A26: Written complaint: philosophy followed as per BSM | B26: 1 | C26: 0 | D26: 0
A27: Internal Hotel policy available for "Handling Complaints" | B27: 1 | C27: 0 | D27: 0
A28: Yes with pleasure philosophy applied, recognisable | B28: 1 | C28: 0 | D28: 0 | E28: checked at:
A29: TOTAL Points reached in this Area: | B29: =SUM(B7:B28) -> 19 | C29: =SUM(C7:C28) -> 0 | D29: =SUM(D7:D28) -> 0 | E29: Minimum to be reached:
A30: Performance in % in this Area | B30: 1 | C30: =C29/B29 -> 0 | D30: =D29/B29 -> 0 | E30: 80%

Sheet Public Areas
A3: AREA CHECKED: Public Areas
A5: STANDARD / TOPIC CHECKED | B5: STANDARD | C5: STANDARD MET | E5: ACTION /
B6: AVAILABLE | C6: YES | D6: NO | E6: COMMENT
A7: Public areas clean and tidy | B7: 1 | C7: 0 | D7: 0
A8: Public restrooms clean and checked hourly, signed off visibly | B8: 1 | C8: 0 | D8: 0 | E8: (at least during main operating hours F&B outlets)
A9: Entertainment appropriate and audible | B9: 1 | C9: 0 | D9: 0
A10: Information showcases nicely arranged and clean | B10: 1 | C10: 0 | D10: 0
A11: Signage visible and appropriate | B11: 1 | C11: 0 | D11: 0
A12: Temperature comfortable and appropriate | B12: 1 | C12: 0 | D12: 0
A14: No rank and file staff is using public toilets | B14: 1 | C14: 0 | D14: 0
A15: Green plants at lobby and corridors in good shape and dusted | B15: 1 | C15: 0 | D15: 0
A17: Light bulbs working all over the hotel property | B17: 1 | C17: 0 | D17: 0 | E17: (incl. emergency signs)
A29: TOTAL Points reached in this Area: | B29: =SUM(B7:B28) -> 9 | C29: =SUM(C7:C28) -> 0 | D29: =SUM(D7:D28) -> 0 | E29: Minimum to be reached:
A30: Performance in % in this Area | B30: 1 | C30: =C29/B29 -> 0 | D30: =D29/B29 -> 0 | E30: 80%

Sheet Pool
A3: AREA CHECKED: Pool Facilities
A5: STANDARD / TOPIC CHECKED | B5: STANDARD | C5: STANDARD MET | E5: ACTION /
B6: AVAILABLE | C6: YES | D6: NO | E6: COMMENT
A7: Are signs present indicating lifeguard availability | B7: 1 | C7: 0 | D7: 0 | E7: on top of mentioning within pool & beach rules
A8: At operating hours lifeguard is visibly available | B8: 1 | C8: 0 | D8: 0 | E8: (applies for all hotels unless waver is approved)
A9: Is pool lining and tiling not damaged or worn | B9: 1 | C9: 0 | D9: 0
A10: Is pool lining and tiling clean | B10: 1 | C10: 0 | D10: 0
A11: Is pool water clean and clear | B11: 1 | C11: 0 | D11: 0
A12: Is pool temperature at least 24 degrees celsius | B12: 1 | C12: 0 | D12: 0
A13: Is pool furniture neat and tidy | B13: 1 | C13: 0 | D13: 0
A14: Are enough pool/deck chairs available | B14: 1 | C14: 0 | D14: 0
A15: Are changing rooms in good repair and clean | B15: 1 | C15: 0 | D15: 0
A16: Pool attendants greet and help arriving guests | B16: 1 | C16: 0 | D16: 0
A17: Pool attendantes provide assistance in setting up chairs, etc. | B17: 1 | C17: 0 | D17: 0
A18: Towel receiving area must be clearly visible | B18: 1 | C18: 0 | D18: 0 | E18: customer friendly approach
A20: Is a pool supervisor regularly present to take care of problems | B20: 1 | C20: 0 | D20: 0
A21: Is a convenient shower (and footbath) available and clean | B21: 1 | C21: 0 | D21: 0 | E21: (footbath if available)
A22: Are there sufficient ashtrays available and regularly cleaned | B22: 1 | C22: 0 | D22: 0
A23: Are the pool rules visible | B23: 1 | C23: 0 | D23: 0 | E23: (visible for anyone entering the pool area)
A24: Is pool rescue equipment readily available | B24: 1 | C24: 0 | D24: 0 | E24: (including hook and life ring)
A29: TOTAL Points reached in this Area: | B29: =SUM(B7:B28) -> 17 | C29: =SUM(C7:C28) -> 0 | D29: =SUM(D7:D28) -> 0 | E29: Minimum to be reached:
A30: Performance in % in this Area | B30: 1 | C30: =C29/B29 -> 0 | D30: =D29/B29 -> 0 | E30: 80%

Sheet Beach
A3: AREA CHECKED: Beach Facilities
A5: STANDARD / TOPIC CHECKED | B5: STANDARD | C5: STANDARD MET | E5: ACTION /
B6: AVAILABLE | C6: YES | D6: NO | E6: COMMENT
A7: Are signs present indicating lifeguard availability | B7: 1 | C7: 0 | D7: 0 | E7: on top of mentioning within pool & beach rules
A8: Is beach rescue equipment readily available | B8: 1 | C8: 0 | D8: 0
A9: Is a lifeguard constantly present at the beach | B9: 1 | C9: 0 | D9: 0 | E9: (including a watch tower)
A10: Are the sanitary facilities clean and in good physical condition | B10: 1 | C10: 0 | D10: 0
A11: Towels are clean and not worn | B11: 1 | C11: 0 | D11: 0
A12: Towel receiving area must be clearly visible | B12: 1 | C12: 0 | D12: 0 | E12: customer friendly approach
A13: Is beach furniture neat and tidy | B13: 1 | C13: 0 | D13: 0
A14: Are enough pool/deck chairs available | B14: 1 | C14: 0 | D14: 0
A15: Are changing rooms in good repair and clean | B15: 1 | C15: 0 | D15: 0
A16: Beach attendants greet and help arriving guests | B16: 1 | C16: 0 | D16: 0
A17: Beach attendantes provide assistance in setting up chairs, etc. | B17: 1 | C17: 0 | D17: 0
A18: Beach rules are visible at entrance | B18: 1 | C18: 0 | D18: 0
D19: 0
A20: Is a beach supervisor regularly present to take care of problems | B20: 1 | C20: 0 | D20: 0
A21: Is a convenient shower available and clean | B21: 1 | C21: 0 | D21: 0
A22: Are there sufficient ashtrays available and regularly cleaned | B22: 1 | C22: 0 | D22: 0
A23: Is beach sand clean and free of cigarette buts | B23: 1 | C23: 0 | D23: 0 | E23: (except for natural debris)
A24: Is swimming area protected and fenced | B24: 1 | C24: 0 | D24: 0 | E24: visible for anyone
A29: TOTAL Points reached in this Area: | B29: =SUM(B7:B28) -> 17 | C29: =SUM(C7:C28) -> 0 | D29: =SUM(D7:D28) -> 0 | E29: Minimum to be reached:
A30: Performance in % in this Area | B30: 1 | C30: =C29/B29 -> 0 | D30: =D29/B29 -> 0 | E30: 80%

Sheet Core Key Issues
A3: AREA CHECKED: Hospitality Guarantee - Core Key Principles
A5: STANDARD / TOPIC CHECKED | B5: STANDARD | C5: STANDARD MET | E5: ACTION /
B6: AVAILABLE | C6: YES | D6: NO | E6: COMMENT
A7: Is company mission known by staff? | B7: 1 | C7: 0 | D7: 0 | E7: ask 3 staff at random
A8: Key 1 - Greet every guest encountered with a friendly smile | B8: 1 | C8: 0 | D8: 0
A9: Key 1 - Leave everything when recoginising a guest | B9: 1 | C9: 0 | D9: 0 | E9: (give undivided attention)
A10: Key 2 - Phone is promptly answered (5 rings) | B10: 1 | C10: 0 | D10: 0 | E10: (hotel internal calls)
A11: Key 2 - Address caller by name | B11: 1 | C11: 0 | D11: 0 | E11: (at least once during conversation)
A12: Key 2 - Listen carefully and confirm main points of call | B12: 1 | C12: 0 | D12: 0
A13: Key 3 - Do not disturb sign respected in all cases | B13: 1 | C13: 0 | D13: 0
A14: Key 4 - Staff is dressed in clean and pressed uniform | B14: 1 | C14: 0 | D14: 0 | E14: check at least 3 different departments
A15: Key 4 - All staff is wearing name tags | B15: 1 | C15: 0 | D15: 0 | E15: including management, when at front
A16: Key 5 - Handling complaints according to policy | B16: 1 | C16: 0 | D16: 0 | E16: check FO and/or one restaurant outlet
A17: Key 6 - Check handling of requests according to policy | B17: 1 | C17: 0 | D17: 0 | E17: (laundry pick-up/confirmation flight ticket, other)
A18: Hospitality Guarantee applied as per policy? | B18: 1 | C18: 0 | D18: 0 | E18: (only if relevant complaint available and checked)
A19: Hospitality Guarantee program known by all staff | B19: 1 | C19: 0 | D19: 0 | E19: check 4 departments at random
B20: 0 | C20: 0 | D20: 0
A21: Are 5 min topics; daily trained as per policy | B21: 1 | C21: 0 | D21: 0
A22: 5MT physical check - ask 3 employees if they are aware of | B22: 1 | C22: 0 | D22: 0 | E22: the 5MT standard of the day
A29: TOTAL Points reached in this Area: | B29: =SUM(B7:B28) -> 15 | C29: =SUM(C7:C28) -> 0 | D29: =SUM(D7:D28) -> 0 | E29: Minimum to be reached:
A30: Performance in % in this Area | B30: 1 | C30: =C29/B29 -> 0 | D30: =D29/B29 -> 0 | E30: 80%

Sheet Core Foundation
A3: AREA CHECKED: Core Foundations
A4: NON NEGOTIABLE ITEMS !!
A5: STANDARD / TOPIC CHECKED | B5: STANDARD | C5: STANDARD MET | E5: ACTION /
B6: AVAILABLE | C6: YES | D6: NO | E6: COMMENT
A7: Warm meals available at one restraurant from 06.30 to 23.00 | B7: 2 | C7: 0 | D7: 0 | E7: throughout!
A8: A la carte breakfast is served throughout service time | B8: 2 | C8: 0 | D8: 0 | E8: at least continental breakfast
A10: Ice cream available in all restaurants + room service | B10: 2 | C10: 0 | D10: 0
A11: Buffet breakfast served until 10.30 a.m. | B11: 2 | C11: 0 | D11: 0
A12: All hotel non-smoking | B12: 2 | C12: 0 | D12: 0 | E12: in main restaurants where food is served
A14: Children first | B14: 2 | C14: 0 | D14: 0
A15: Children immediately provided with drawing kit | B15: 2 | C15: 0 | D15: 0 | E15: small children
A16: Children meals served way ahead of parents' | B16: 2 | C16: 0 | D16: 0 | E16: small children
A17: Cleanliness Restrooms | B17: 2 | C17: 0 | D17: 0 | E17: check 2 public restrooms
A18: Public Restrooms: checked hourly by supervisor, record visible | B18: 2 | C18: 0 | D18: 0
A19: Wine served by the glass (5 varieties) | B19: 2 | C19: 0 | D19: 0 | E19: min 3 varieties for Middle East, where appropriate
A29: TOTAL Points reached in this Area: | B29: =SUM(B7:B28) -> 22 | C29: =SUM(C7:C28) -> 0 | D29: =SUM(D7:D28) -> 0 | E29: Minimum to be reached:
A30: Performance in % in this Area | B30: 1 | C30: =C29/B29 -> 0 | D30: =D29/B29 -> 0 | E30: 80%

Sheet HR Personnel
A3: AREA CHECKED: Human Resources - Personnel
A5: STANDARD / TOPIC CHECKED | B5: STANDARD | C5: STANDARD MET | E5: ACTION /
B6: AVAILABLE | C6: YES | D6: NO | E6: COMMENT
A7: Performance Appraisal concept followed (as per forms BSM) | B7: 2 | C7: 0 | D7: 0 | E7: mandatory for department heads
A8: Performance Appraisal physical check forms | B8: 1 | C8: 0 | D8: 0 | E8: 2 DH, 2 staff files at random
A9: MBO system in place and followed | B9: 2 | C9: 0 | D9: 0 | E9: with clear and measurable targets
A10: MBO system physical check current year | B10: 2 | C10: 0 | D10: 0 | E10: 1 GM, 2 DH files at random
A11: Exit interviews performed | B11: 1 | C11: 0 | D11: 0 | E11: physical check last 3 checkouts
A12: Reference checks done | B12: 1 | C12: 0 | D12: 0
A13: Induction programs done for all supervisory levels | B13: 1 | C13: 0 | D13: 0 | E13: check 4 entry files last 12 months at random
A14: Work Supporter system implemented | B14: 1 | C14: 0 | D14: 0 | E14: check by interview with 2 designated "Godfathers"
A15: Supervisory staff attended corporate trainings | B15: 1 | C15: 0 | D15: 0 | E15: within last 6 months
A17: Employee Recognition Program available and in place | B17: 1 | C17: 0 | D17: 0
A18: Employee Handbook available according to BSM | B18: 2 | C18: 0 | D18: 0 | E18: check with 5 employees at random if they received
A19: Internal House Rules available | B19: 1 | C19: 0 | D19: 0 | E19: check with 5 employees at random if they received
A20: Organisation chart (actual) available and known | B20: 1 | C20: 0 | D20: 0 | E20: according to BSM; not older than 6 months
A21: Employee-Induction program implemented as per BSM | B21: 2 | C21: 0 | D21: 0
A29: TOTAL Points reached in this Area: | B29: =SUM(B7:B28) -> 19 | C29: =SUM(C7:C28) -> 0 | D29: =SUM(D7:D28) -> 0 | E29: Minimum to be reached:
A30: Performance in % in this Area | B30: 1 | C30: =C29/B29 -> 0 | D30: =D29/B29 -> 0 | E30: 80%

Sheet HR Training
A3: AREA CHECKED: Human Resources - Training
A5: STANDARD / TOPIC CHECKED | B5: STANDARD | C5: STANDARD MET | E5: ACTION /
B6: AVAILABLE | C6: YES | D6: NO | E6: COMMENT
A7: General Training Schedule available and in place | B7: 1 | C7: 0 | D7: 0 | E7: PM
A8: General Training Schedule, physical check current Year | B8: 1 | C8: 0 | D8: 0 | E8: PM
A9: Dept. Training Schedules available and in place | B9: 1 | C9: 0 | D9: 0 | E9: DH / PM
A10: Dept. Training Schedules, physical check, last 2 months | B10: 1 | C10: 0 | D10: 0 | E10: 2 dpts at random
A11: Hotel internal Training Program/schedule available for staff | B11: 1 | C11: 0 | D11: 0 | E11: Publication to staff
A12: Training room available | B12: 1 | C12: 0 | D12: 0
A13: Training room physical basic inventory available | B13: 1 | C13: 0 | D13: 0 | E13: Laptop, Projector, TV, Flip Chart, library, training videos
A14: General hotel Fire Training with local Fire Brigade executed | B14: 1 | C14: 0 | D14: 0 | E14: Within last 18 months
A15: All Duty Managers gone through specific Fire Training | B15: 1 | C15: 0 | D15: 0 | E15: Within last 12 months, check 2 at random
A16: Dept. Fire Training executed within last 6 months | B16: 1 | C16: 0 | D16: 0 | E16: Check 3 dpts at random
A17: Work Supporter System in place, introduction new employees | B17: 1 | C17: 0 | D17: 0 | E17: or work supporter system
A18: Hospitality Guarantee training departm., executed last 6 months | B18: 1 | C18: 0 | D18: 0 | E18: Hospitality Guarantee, Core Key Principles, Dpt. Service Req.
A19: General Training carried out last 3 months | B19: 1 | C19: 0 | D19: 0 | E19: PM
A20: Technical/Skills Training carried out last months | B20: 1 | C20: 0 | D20: 0 | E20: Check 3 dpts at random, dates:
A21: Personnel or Training Manager have on-line access Intranet | B21: 1 | C21: 0 | D21: 0 | E21: physical prove
A29: TOTAL Points reached in this Area: | B29: =SUM(B7:B28) -> 15 | C29: =SUM(C7:C28) -> 0 | D29: =SUM(D7:D28) -> 0 | E29: Minimum to be reached:
A30: Performance in % in this Area | B30: 1 | C30: =C29/B29 -> 0 | D30: =D29/B29 -> 0 | E30: 80%

Sheet Quality Assurance
A3: AREA CHECKED: BSM - Implementation Quality Assurance Standards
A5: STANDARD / TOPIC CHECKED | B5: STANDARD | C5: STANDARD MET | E5: ACTION /
B6: AVAILABLE | C6: YES | D6: NO | E6: COMMENT
A7: Quality Assurance Committee in place | B7: 1 | C7: 0 | D7: 0 | E7: (perhaps under another name)
A8: General Manager actively involved into QA process | B8: 1 | C8: 0 | D8: 0
A9: QAC meetings held at least once a month | B9: 1 | C9: 0 | D9: 0
A10: QAC meetings reported with proper minutes | B10: 1 | C10: 0 | D10: 0
A11: Physical check: QAC minutes of last two months available | B11: 1 | C11: 0 | D11: 0
A12: Concept covering the 5 defined operational areas | B12: 1 | C12: 0 | D12: 0 | E12: see example BSM - Quality Assurance Concept
A15: Quality issue scheduled within internal Training Schedule | B15: 1 | C15: 0 | D15: 0 | E15: Core Keys, Dpt. Service Req., Hospitality Guarantee
A16: Quality issue trained within relevant Departments, monthly | B16: 1 | C16: 0 | D16: 0
A17: Quality standards trained/checked by Department Head | B17: 1 | C17: 0 | D17: 0
A18: Quality Benchmark Results known by Department Head | B18: 1 | C18: 0 | D18: 0
A19: Quality Benchmark Results known by Supervisors | B19: 1 | C19: 0 | D19: 0 | E19: physical check at random
A20: BSM Quality checklists available physically in all departments | B20: 1 | C20: 0 | D20: 0 | E20: (BSM on line)
A21: Prove: 3 departments physical check of availability | B21: 1 | C21: 0 | D21: 0 | E21: (BSM on line)
A23: Hospitality Guarantee Program implemented | B23: 1 | C23: 0 | D23: 0 | E23: mimimum 80 % reached in all departments
A24: Core Key Principles implemented | B24: 1 | C24: 0 | D24: 0 | E24: mimimum 80 % reached in all departments
A25: Departmental Service Requirments implemented | B25: 1 | C25: 0 | D25: 0 | E25: mimimum 80 % reached in all departments
A26: Physical check: choose 5 staff and ask about Core Key Principles | B26: 1 | C26: 0 | D26: 0 | E26: their relevant area plus having the leaflet with them
A27: 5MT - 5 minute training / implemented daily all departments | B27: 1 | C27: 0 | D27: 0 | E27: including moring briefing (GM)
A28: Customer Satisfaction Program in place | B28: 0 | C28: 0 | D28: 0 | E28: check pro-active approach during check out
A29: TOTAL Points reached in this Area: | B29: =SUM(B7:B28) -> 18 | C29: =SUM(C7:C28) -> 0 | D29: =SUM(D7:D28) -> 0 | E29: Minimum to be reached:
A30: Performance in % in this Area | B30: 1 | C30: =C29/B29 -> 0 | D30: =D29/B29 -> 0 | E30: 80%

Sheet General Comments
A3: GENERAL COMMENTS TO AUDIT - CHECKED AREAS
A5: COMMENT TO STANDARD IN GENERAL | B5: DEAD | C5: RESPONS. | E5: COMMENT /
B6: LINE | C6: GM | D6: OTHER | E6: ACTION NEEDED
A30: Discussed with: _______________________________ | B30: Place, Date: _____________

Sheet Rating - Legend
A3: AREA CHECKED: Rating / Legend / Explanation
A5: STANDARD / TOPIC CHECKED | B5: STANDARD | C5: STANDARD MET | E5: ACTION /
B6: AVAILABLE | C6: YES | D6: NO | E6: COMMENT
A7: 1 Friendly welcome by Reception Employee | B7: 1 | C7: 1 | D7: 0
A8: 2 Welcome Drink offered | B8: 1 | C8: 1 | D8: 0
A9: 3 Registration Form prepared, filled out correctly | B9: 1 | C9: 0 | D9: 1
A10: 4 Eye Contact with Employee | B10: 0 | C10: 0 | D10: 0 | E10: culture - no value
A11: TOTAL Points reached in this Area: | B11: =SUM(B7:B10) -> 3 | C11: =SUM(C7:C10) -> 2 | D11: =SUM(D7:D10) -> 1 | E11: Minimum to reach:
A12: Performance in % in this Area | B12: 1 | C12: =C11/B11 -> 0.66666667 | D12: =D11/B11 -> 0.33333333 | E12: 80%
A14: Explanation:
A15: Status "Standard Available": 1 = Standard available / 0 = not available
A16: Status "Standard Met - Yes" 1 = Standard met / 0 = not met
A17: Status "Standard Met - No" 1 = Standard not met / 0 = met
A19: Standard 1 to 3 above are available to be checked, 1 and 2 are met, 3 | E19: Explanation
A20: is not met, 4 was not available due to culture reasons and not checked.
A21: Rating is 66.7% met, which is in this example not sufficient. Action has
A22: to be planned and scheduled.
A25: General Overall Rating: 80% to be reached | E25: Rating
A26: Less than 80 % reached | B26: unsatisfactory | D26: *
A27: 80-85 | B27: good
A28: 85-90% reached | B28: very good
A29: 90-100% reached | B29: excellent
A31: * For audited hotels in which the 80% where not reached, a detailed | E31: Action when
A32: action plan has to be submitted within 10 days to reach the standards. | E32: failed
A33: Within 3 months Head Office will perform a follow up audit at the hotel's
A34: cost and where then the 80% must be reached.
A36: BSM -Brand Standards Manual | E36: Info BSM
A37: The base to all standards is mentioned or highlighted in detail within the
A38: BSM - Brand Standards Manual. The BSM should be familiar to
A39: all department heads. The BSM should also be the fundamental basis
A40: for departmental training purposes.
